BEGIN:VCALENDAR
VERSION:2.0
PRODID:-//AUDIO GHOSTS - ECPv6.15.11//NONSGML v1.0//EN
CALSCALE:GREGORIAN
METHOD:PUBLISH
X-ORIGINAL-URL:https://www.mdw.ac.at/audio-ghosts
X-WR-CALDESC:Events for AUDIO GHOSTS
REFRESH-INTERVAL;VALUE=DURATION:PT1H
X-Robots-Tag:noindex
X-PUBLISHED-TTL:PT1H
BEGIN:VTIMEZONE
TZID:UTC
BEGIN:STANDARD
TZOFFSETFROM:+0000
TZOFFSETTO:+0000
TZNAME:UTC
DTSTART:20240101T000000
END:STANDARD
END:VTIMEZONE
BEGIN:VEVENT
DTSTART;VALUE=DATE:20251114
DTEND;VALUE=DATE:20251119
DTSTAMP:20260425T022753
CREATED:20250704T205749Z
LAST-MODIFIED:20260214T191833Z
UID:1522-1763078400-1763510399@www.mdw.ac.at
SUMMARY:COMING UP: GUEST ARTIST #5: Christopher Haworth (Birmingham\, UK)
DESCRIPTION:Multi-channel sound installation. \nFriday\, November 14\, 2025\, 18:00 (opening & artist talk)\n@ SP•CE [Billrothstraße 6/2\, 1190 Vienna]\nFurther opening hours: November 15 to 18\, 2025\, 18:00-21:00 \nPart of the AUDIO GHOSTS Guest Artists Series. \nSP·CE: Billrothstraße 6/2\, 1190 Vienna
URL:https://www.mdw.ac.at/audio-ghosts/event/coming-up-guest-artist-5-christopher-haworth-birmingham-uk/
LOCATION:SP·CE\, Billrothstraße 6\, Wien\, 1190\, Austria
CATEGORIES:guestartists,presentation
ATTACH;FMTTYPE=image/jpeg:https://www.mdw.ac.at/audio-ghosts/wp-content/uploads/2025/11/haworth-christopher-315-cropped-230x230-1.jpg
END:VEVENT
BEGIN:VEVENT
DTSTART;TZID=UTC:20251114T100000
DTEND;TZID=UTC:20251115T130000
DTSTAMP:20260425T022753
CREATED:20251108T174542Z
LAST-MODIFIED:20251108T175436Z
UID:1587-1763114400-1763211600@www.mdw.ac.at
SUMMARY:AUDIO GHOSTS Symposium 2025
DESCRIPTION:We are delighted to announce the AUDIO GHOSTS Symposium 2025\, which will serve as a kind of mid-term evaluation of our research project. Together with experts from the fields of art-based research\, musicology\, psychology\, and sound art\, we will discuss our artistic research endeavor in a broader context! \nAlongside presentations of AUDIO GHOSTS team menbers Piotr Majdak and Bernhard Gál\, there will be exciting contributions by: \nBarbara Barthelmes (Berlin)\nChristopher Haworth (Birmingham)\nRichard Parncutt (Graz) \nIn conjunction with the symposium\, we will also present a new sound installation by British composer Christopher Haworth\, opening on Friday\, November 14\, 2025 at the SP CE Listening Gallery\, certainly not to be missed! \n 
URL:https://www.mdw.ac.at/audio-ghosts/event/audio-ghosts-symposium-2025/
LOCATION:Fanny Hensel-Hall\, mdw – University of Music and Performing Arts Vienna\, Anton von Webern-Platz 1\, Vienna\, 1030\, Austria
CATEGORIES:presentation
ATTACH;FMTTYPE=image/jpeg:https://www.mdw.ac.at/audio-ghosts/wp-content/uploads/2025/11/AUDIO-GHOSTS-Symposium-2025_Flyer-scaled.jpg
END:VEVENT
BEGIN:VEVENT
DTSTART;VALUE=DATE:20251126
DTEND;VALUE=DATE:20251127
DTSTAMP:20260425T022753
CREATED:20251118T124653Z
LAST-MODIFIED:20260214T191747Z
UID:1733-1764115200-1764201599@www.mdw.ac.at
SUMMARY:AUDIO GHOSTS @ All Around Audio Symposium!
DESCRIPTION:We are excited to announce that AUDIO GHOSTS will be presented at the trans-disciplinary symposium All Around Audio\, a “platform for dialogue and discovery across diverse areas of audio production\, perception\, and innovation”\, in conjunction with the 7th International Conference on Creative Media Technologies.
URL:https://www.mdw.ac.at/audio-ghosts/event/audio-ghosts-all-around-audio-symposium/
LOCATION:USTP – University of Applied Sciences St. Pölten\, Campus-Platz 1\, St. Pölten\, 3100\, Austria
CATEGORIES:presentation
ATTACH;FMTTYPE=image/jpeg:https://www.mdw.ac.at/audio-ghosts/wp-content/uploads/2023/11/Audio-Ghosts_24.jpg
END:VEVENT
END:VCALENDAR