BEGIN:VCALENDAR
VERSION:2.0
PRODID:-//AUDIO GHOSTS - ECPv6.15.11//NONSGML v1.0//EN
CALSCALE:GREGORIAN
METHOD:PUBLISH
X-ORIGINAL-URL:https://www.mdw.ac.at/audio-ghosts
X-WR-CALDESC:Events for AUDIO GHOSTS
REFRESH-INTERVAL;VALUE=DURATION:PT1H
X-Robots-Tag:noindex
X-PUBLISHED-TTL:PT1H
BEGIN:VTIMEZONE
TZID:UTC
BEGIN:STANDARD
TZOFFSETFROM:+0000
TZOFFSETTO:+0000
TZNAME:UTC
DTSTART:20230101T000000
END:STANDARD
END:VTIMEZONE
BEGIN:VEVENT
DTSTART;TZID=UTC:20260424T180000
DTEND;TZID=UTC:20260424T210000
DTSTAMP:20260424T212309
CREATED:20260322T200433Z
LAST-MODIFIED:20260324T203405Z
UID:1833-1777053600-1777064400@www.mdw.ac.at
SUMMARY:GUEST ARTIST #7: Klaus Filip
DESCRIPTION:Verfranssungen \nSound installation. \nDetails soon tba. \nFriday\, April 24\, 2026\, 18:00 (opening & artist talk)\n@ SP•CE Listening Gallery [Billrothstraße 6/2\, 1190 Vienna]\nFurther opening hours: April  25 to 28\, 2026\, 18:00-21:00 \nPart of the AUDIO GHOSTS Guest Artists Series. \nWebsite Klaus Filip: https://filipino.klingt.org/
URL:https://www.mdw.ac.at/audio-ghosts/event/guest-artist-7-klaus-filip/
LOCATION:SP·CE\, Billrothstraße 6\, Wien\, 1190\, Austria
CATEGORIES:guestartists,presentation
ATTACH;FMTTYPE=image/jpeg:https://www.mdw.ac.at/audio-ghosts/wp-content/uploads/2026/03/filip_foto-johanna-forster_w.jpg
END:VEVENT
BEGIN:VEVENT
DTSTART;TZID=UTC:20260323T180000
DTEND;TZID=UTC:20260327T210000
DTSTAMP:20260424T212309
CREATED:20260222T222049Z
LAST-MODIFIED:20260322T002249Z
UID:1791-1774288800-1774645200@www.mdw.ac.at
SUMMARY:GUEST ARTIST #6: JuгⰑnaꙇtкиња [Belma Bešlić-Gál]
DESCRIPTION:Quadrophonic Audiovisual Installation / Web Art \nMonday\, March 23\, 2026\, 18:00 (opening & artist talk)\n@ SP•CE Listening Gallery [Billrothstraße 6/2\, 1190 Vienna]\nFurther opening hours: March 24 to 27\, 2026\, 18:00-21:00 \nPart of the AUDIO GHOSTS Guest Artists Series. \nPЪ7×7 begins from an observation about the present: systems overlap\, fragment\, and remain radically interdependent. The work takes an agnostic stance toward determinism and randomness alike. What it makes audible is connection itself: the law of action and reaction operating across domains\, the way each element in a system disposes the next without determining it. \nhttps://www.belmabeslic-gal.eu
URL:https://www.mdw.ac.at/audio-ghosts/event/guest-artist-6-belma-beslic-gal-vienna-austria/
LOCATION:SP·CE\, Billrothstraße 6\, Wien\, 1190\, Austria
CATEGORIES:guestartists,presentation
ATTACH;FMTTYPE=image/png:https://www.mdw.ac.at/audio-ghosts/wp-content/uploads/2026/03/screenshot_pb7x7.png
END:VEVENT
BEGIN:VEVENT
DTSTART;VALUE=DATE:20251114
DTEND;VALUE=DATE:20251119
DTSTAMP:20260424T212309
CREATED:20250704T205749Z
LAST-MODIFIED:20260214T191833Z
UID:1522-1763078400-1763510399@www.mdw.ac.at
SUMMARY:COMING UP: GUEST ARTIST #5: Christopher Haworth (Birmingham\, UK)
DESCRIPTION:Multi-channel sound installation. \nFriday\, November 14\, 2025\, 18:00 (opening & artist talk)\n@ SP•CE [Billrothstraße 6/2\, 1190 Vienna]\nFurther opening hours: November 15 to 18\, 2025\, 18:00-21:00 \nPart of the AUDIO GHOSTS Guest Artists Series. \nSP·CE: Billrothstraße 6/2\, 1190 Vienna
URL:https://www.mdw.ac.at/audio-ghosts/event/coming-up-guest-artist-5-christopher-haworth-birmingham-uk/
LOCATION:SP·CE\, Billrothstraße 6\, Wien\, 1190\, Austria
CATEGORIES:guestartists,presentation
ATTACH;FMTTYPE=image/jpeg:https://www.mdw.ac.at/audio-ghosts/wp-content/uploads/2025/11/haworth-christopher-315-cropped-230x230-1.jpg
END:VEVENT
BEGIN:VEVENT
DTSTART;VALUE=DATE:20251020
DTEND;VALUE=DATE:20251025
DTSTAMP:20260424T212309
CREATED:20250704T205010Z
LAST-MODIFIED:20251108T175611Z
UID:1519-1760918400-1761350399@www.mdw.ac.at
SUMMARY:GUEST ARTIST #4: Kai Fagaschinski (Berlin\, Germany)
DESCRIPTION:Premiere of a four-channel sound installation\, details tba. \n  \nPart of the AUDIO GHOSTS Guest Artists Series. \nSP·CE: Billrothstraße 6/2\, 1190 Vienna
URL:https://www.mdw.ac.at/audio-ghosts/event/coming-up-guest-artist-4-kai-fagaschinski-berlin/
LOCATION:SP·CE\, Billrothstraße 6\, Wien\, 1190\, Austria
CATEGORIES:guestartists,presentation
ATTACH;FMTTYPE=image/jpeg:https://www.mdw.ac.at/audio-ghosts/wp-content/uploads/2023/11/Audio-Ghosts_20.jpg
END:VEVENT
BEGIN:VEVENT
DTSTART;TZID=UTC:20250616T180000
DTEND;TZID=UTC:20250616T210000
DTSTAMP:20260424T212309
CREATED:20250602T123942Z
LAST-MODIFIED:20250602T134923Z
UID:1437-1750096800-1750107600@www.mdw.ac.at
SUMMARY:Presenting GUEST ARTIST #3: Artists and Students of Die Angewandte\, Vienna
DESCRIPTION:GUEST ARTIST SERIES #3 \nArtists and Students of the University of Applied Arts Vienna \nAntenna in the Mud \nInteractive Sonic Sculpture of Four Antennas to be Activated by the Visitors \nMonday\, June 16\, 2025 @ SP•CE\, Vienna\, 18:00-22:00 (opening) \nFurther opening hours: June 17 to 21\, 2025\, 18:00-21:00 \nMore infos …
URL:https://www.mdw.ac.at/audio-ghosts/event/presenting-guest-artist-3-artists-and-students-of-die-angewandte-vienna/
LOCATION:SP·CE\, Billrothstraße 6\, Wien\, 1190\, Austria
CATEGORIES:guestartists,presentation,projects
ATTACH;FMTTYPE=image/jpeg:https://www.mdw.ac.at/audio-ghosts/wp-content/uploads/2025/06/Antenna_meteorites_1200x900_w.jpg
END:VEVENT
BEGIN:VEVENT
DTSTART;TZID=UTC:20250602T180000
DTEND;TZID=UTC:20250602T210000
DTSTAMP:20260424T212309
CREATED:20250521T145137Z
LAST-MODIFIED:20250704T210559Z
UID:1381-1748887200-1748898000@www.mdw.ac.at
SUMMARY:Presenting GUEST ARTIST #2: Matias Giuliani & Silvina Zicolillo (Buenos Aires\, Argentina)
DESCRIPTION:What happens when listening becomes uncertain—when voices blur\, and clarity dissolves? \nIn their contribution to AUDIO GHOSTS\, artists Matias Giuliani and Silvina Zicolillo explore the veiled\, the interrupted\, and the half-heard. Their work questions how we relate to incomplete sonic impressions and the imaginative processes that fill in what cannot be fully perceived. \nAt the opening\, the live performance UN SOLO TEXTO Y UNA SOLA VOZ (“A single text and a single voice”) investigates the auditory confusion between two voices. The installation RÉPÉTITION invites reflection on the unheard—the sound that is sensed yet remains elusive. The program also includes the premiere of n. n.\, a new quadrophonic electroacoustic composition. \nMore infos … \n  \nPart of the AUDIO GHOSTS Guest Artists Series. \nSP·CE: Billrothstraße 6/2\, 1190 Vienna
URL:https://www.mdw.ac.at/audio-ghosts/event/presenting-guest-artist-2-matias-giuliani-silvina-zicolillo/
LOCATION:SP·CE\, Billrothstraße 6\, Wien\, 1190\, Austria
CATEGORIES:guestartists,presentation,projects
ATTACH;FMTTYPE=image/png:https://www.mdw.ac.at/audio-ghosts/wp-content/uploads/2025/05/vlcsnap-2025-05-10-12h35m39s665.png
END:VEVENT
BEGIN:VEVENT
DTSTART;TZID=UTC:20250507T150000
DTEND;TZID=UTC:20250507T180000
DTSTAMP:20260424T212309
CREATED:20250528T200534Z
LAST-MODIFIED:20250528T200637Z
UID:1409-1746630000-1746640800@www.mdw.ac.at
SUMMARY:Guest Artists Workshop #2
DESCRIPTION:2nd Workshop with guest artists. Presenting AUDIO GHOSTS in theory and practice\, featuring basic psychoacoustic mechanisms as well as exploring selected auditory illusions and listening to sound excerpts.
URL:https://www.mdw.ac.at/audio-ghosts/event/guest-artists-workshop-2/
LOCATION:SP·CE\, Billrothstraße 6\, Wien\, 1190\, Austria
CATEGORIES:guestartists,presentation
ATTACH;FMTTYPE=image/jpeg:https://www.mdw.ac.at/audio-ghosts/wp-content/uploads/2025/05/AG_Angewandte-Workshop_2b_w.jpg
END:VEVENT
BEGIN:VEVENT
DTSTART;TZID=UTC:20241014T190000
DTEND;TZID=UTC:20241014T220000
DTSTAMP:20260424T212309
CREATED:20241009T193015Z
LAST-MODIFIED:20250310T222233Z
UID:848-1728932400-1728943200@www.mdw.ac.at
SUMMARY:Presenting our first guest artist\, Christine Schörkhuber!
DESCRIPTION:We are delighted to welcome our first AUDIO GHOSTS guest artist\, Christine Schörkhuber! \nThe Austrian sound artist Christine Schörkhuber presents a new sound work\, being realized as part of the artistic research project AUDIO GHOSTS: Illusive perceptions – Perceptual illusions. \nMore information: https://www.mdw.ac.at/audio-ghosts/ththbrsh/ \nPresented in collaboration with:\nshut up and listen! 2024 – Transdisciplinary Festival for Music and Sound Art\nhttps://sp-ce.net/en/sual24_en/
URL:https://www.mdw.ac.at/audio-ghosts/event/presenting-our-first-guest-artist-christine-schorkhuber/
LOCATION:SP·CE\, Billrothstraße 6\, Wien\, 1190\, Austria
CATEGORIES:guestartists,presentation
ATTACH;FMTTYPE=image/jpeg:https://www.mdw.ac.at/audio-ghosts/wp-content/uploads/2024/10/Christine-Schoerkhuber_photo-VerenaMayrhofer-scaled.jpg
END:VEVENT
END:VCALENDAR