BEGIN:VCALENDAR
VERSION:2.0
PRODID:-//AUDIO GHOSTS - ECPv6.15.11//NONSGML v1.0//EN
CALSCALE:GREGORIAN
METHOD:PUBLISH
X-WR-CALNAME:AUDIO GHOSTS
X-ORIGINAL-URL:https://www.mdw.ac.at/audio-ghosts
X-WR-CALDESC:Events for AUDIO GHOSTS
REFRESH-INTERVAL;VALUE=DURATION:PT1H
X-Robots-Tag:noindex
X-PUBLISHED-TTL:PT1H
BEGIN:VTIMEZONE
TZID:UTC
BEGIN:STANDARD
TZOFFSETFROM:+0000
TZOFFSETTO:+0000
TZNAME:UTC
DTSTART:20240101T000000
END:STANDARD
END:VTIMEZONE
BEGIN:VEVENT
DTSTART;VALUE=DATE:20251114
DTEND;VALUE=DATE:20251119
DTSTAMP:20260425T035002
CREATED:20250704T205749Z
LAST-MODIFIED:20260214T191833Z
UID:1522-1763078400-1763510399@www.mdw.ac.at
SUMMARY:COMING UP: GUEST ARTIST #5: Christopher Haworth (Birmingham\, UK)
DESCRIPTION:Multi-channel sound installation. \nFriday\, November 14\, 2025\, 18:00 (opening & artist talk)\n@ SP•CE [Billrothstraße 6/2\, 1190 Vienna]\nFurther opening hours: November 15 to 18\, 2025\, 18:00-21:00 \nPart of the AUDIO GHOSTS Guest Artists Series. \nSP·CE: Billrothstraße 6/2\, 1190 Vienna
URL:https://www.mdw.ac.at/audio-ghosts/event/coming-up-guest-artist-5-christopher-haworth-birmingham-uk/
LOCATION:SP·CE\, Billrothstraße 6\, Wien\, 1190\, Austria
CATEGORIES:guestartists,presentation
ATTACH;FMTTYPE=image/jpeg:https://www.mdw.ac.at/audio-ghosts/wp-content/uploads/2025/11/haworth-christopher-315-cropped-230x230-1.jpg
END:VEVENT
END:VCALENDAR